BEGIN:VCALENDAR
VERSION:2.0
PRODID:-//Library Market//iCal Export//EN
BEGIN:VEVENT
SUMMARY:Storytime
UID:19056
DTSTAMP:20260423T231800Z
DTSTART:20260602T153000Z
DTEND:20260602T163000Z
LOCATION:307 Audubon St, Paradis, LA 70080, United States
ROOM: Meeting Room
DESCRIPTION:
URL:https://www.myscpl.org/event/storytime-19056
END:VEVENT
END:VCALENDAR
