BEGIN:VCALENDAR
VERSION:2.0
PRODID:-//Library Market//iCal Export//EN
BEGIN:VEVENT
SUMMARY:Storytime
UID:19060
DTSTAMP:20260424T003200Z
DTSTART:20260630T153000Z
DTEND:20260630T163000Z
LOCATION:307 Audubon St, Paradis, LA 70080, United States
ROOM: Meeting Room
DESCRIPTION:
URL:https://www.myscpl.org/event/storytime-19060
END:VEVENT
END:VCALENDAR
