BEGIN:VCALENDAR
VERSION:2.0
PRODID:-//Library Market//iCal Export//EN
BEGIN:VEVENT
SUMMARY:Storytime
UID:19108
DTSTAMP:20260421T144200Z
DTSTART:20260616T153000Z
DTEND:20260616T163000Z
LOCATION:East Regional Library, 160 West Campus Dr, Destrehan, LA 70047, U
 nited States
ROOM: Large Meeting Room
DESCRIPTION:
URL:https://www.myscpl.org/event/storytime-19108
END:VEVENT
END:VCALENDAR
