BEGIN:VCALENDAR
VERSION:2.0
PRODID:-//Library Market//iCal Export//EN
BEGIN:VEVENT
SUMMARY:Storytime
UID:19114
DTSTAMP:20260421T160500Z
DTSTART:20260728T153000Z
DTEND:20260728T163000Z
LOCATION:East Regional Library, 160 West Campus Dr, Destrehan, LA 70047, U
 nited States
ROOM: Large Meeting Room
DESCRIPTION:
URL:https://www.myscpl.org/event/storytime-19114
END:VEVENT
END:VCALENDAR
