BEGIN:VCALENDAR
VERSION:2.0
PRODID:-//Library Market//iCal Export//EN
BEGIN:VEVENT
SUMMARY:Storytime
UID:19158
DTSTAMP:20260421T130900Z
DTSTART:20260617T153000Z
DTEND:20260617T163000Z
LOCATION:105 Lakewood Dr, Luling, LA 70070, United States
ROOM: Meeting Room (West)
DESCRIPTION:
URL:https://www.myscpl.org/event/storytime-19158
END:VEVENT
END:VCALENDAR
