BEGIN:VCALENDAR
VERSION:2.0
PRODID:-//Library Market//iCal Export//EN
BEGIN:VEVENT
SUMMARY:Storytime
UID:19164
DTSTAMP:20260421T181100Z
DTSTART:20260729T153000Z
DTEND:20260729T163000Z
LOCATION:105 Lakewood Dr, Luling, LA 70070, United States
ROOM: Meeting Room (West)
DESCRIPTION:
URL:https://www.myscpl.org/event/storytime-19164
END:VEVENT
END:VCALENDAR
