BEGIN:VCALENDAR
VERSION:2.0
PRODID:-//Library Market//iCal Export//EN
BEGIN:VEVENT
SUMMARY:Storytime
UID:19209
DTSTAMP:20260421T130900Z
DTSTART:20260625T153000Z
DTEND:20260625T163000Z
LOCATION:590 Apple St, Norco, LA 70079, United States
ROOM: Meeting Room
DESCRIPTION:
URL:https://www.myscpl.org/event/storytime-19209
END:VEVENT
END:VCALENDAR
