BEGIN:VCALENDAR
VERSION:2.0
PRODID:-//Library Market//iCal Export//EN
BEGIN:VEVENT
SUMMARY:Storytime
UID:19214
DTSTAMP:20260424T014500Z
DTSTART:20260730T153000Z
DTEND:20260730T163000Z
LOCATION:590 Apple St, Norco, LA 70079, United States
ROOM: Meeting Room
DESCRIPTION:
URL:https://www.myscpl.org/event/storytime-19214
END:VEVENT
END:VCALENDAR
