BEGIN:VCALENDAR
VERSION:2.0
PRODID:-//Library Market//iCal Export//EN
BEGIN:VEVENT
SUMMARY:Summer Reading Kickoff Party
UID:20144
DTSTAMP:20260421T173200Z
DTSTART:20260601T200000Z
DTEND:20260601T220000Z
LOCATION:590 Apple St, Norco, LA 70079, United States
ROOM: Throughout the Library
DESCRIPTION:We&#039;ve spun a &quot;terrific&quot; web of fun for you! Pla
 y games, enjoy crafts and pick up your summer reading sign up prizes after
  you register for the summer reading program! You can save time and regist
 er on Beanstack before you come to the library, or we can help sign you u
 p while you&#039;re here. 
URL:https://www.myscpl.org/event/srp-launch-party-norco-placeholder-20144
END:VEVENT
END:VCALENDAR
