BEGIN:VCALENDAR
VERSION:2.0
PRODID:-//Library Market//iCal Export//EN
BEGIN:VEVENT
SUMMARY:Baby Bubble Bash
UID:20659
DTSTAMP:20260421T144300Z
DTSTART:20260618T190000Z
DTEND:20260618T200000Z
LOCATION:East Regional Library, 160 West Campus Dr, Destrehan, LA 70047, U
 nited States
ROOM: Children&#039;s Activity Room
DESCRIPTION:Bubble, bubble, pop! Bring your little one in to dance and pla
 y in a shower of bubbles.
URL:https://www.myscpl.org/event/sensory-friendly-storytime-20659
END:VEVENT
END:VCALENDAR
