BEGIN:VCALENDAR
VERSION:2.0
PRODID:-//Library Market//iCal Export//EN
BEGIN:VEVENT
SUMMARY:Crescent Circus
UID:20898
DTSTAMP:20260424T012100Z
DTSTART:20260611T153000Z
DTEND:20260611T163000Z
LOCATION:307 Audubon St, Paradis, LA 70080, United States
ROOM: Meeting Room
DESCRIPTION:The Crescent Circus, husband-and-wife duo Nathan Kepner and Mo
 rgan Tsu-Raun, fuse their expertise in magic and circus arts to deliver a 
 one-of-kind experience on stage. Library meeting rooms have limited space
 , so come early for your best chance to get a seat. 
URL:https://www.myscpl.org/event/crescent-circus-20898
END:VEVENT
END:VCALENDAR
