BEGIN:VCALENDAR
VERSION:2.0
PRODID:-//Library Market//iCal Export//EN
BEGIN:VEVENT
SUMMARY:Crescent Circus
UID:21041
DTSTAMP:20260421T173200Z
DTSTART:20260610T230000Z
DTEND:20260611T000000Z
LOCATION:East Regional Library, 160 West Campus Dr, Destrehan, LA 70047, U
 nited States
ROOM: Large Meeting Room
DESCRIPTION:The Crescent Circus, husband-and-wife duo Nathan Kepner and Mo
 rgan Tsu-Raun, fuse their expertise in magic and circus arts to deliver a 
 one-of-kind experience on stage. Library meeting rooms have limited space
 , so come early for your best chance to get a seat. 
URL:https://www.myscpl.org/event/crescent-circus-21041
END:VEVENT
END:VCALENDAR
