BEGIN:VCALENDAR
VERSION:2.0
PRODID:-//Library Market//iCal Export//EN
BEGIN:VEVENT
SUMMARY:Crescent Circus
UID:21043
DTSTAMP:20260421T173200Z
DTSTART:20260611T230000Z
DTEND:20260612T000000Z
LOCATION:105 Lakewood Dr, Luling, LA 70070, United States
ROOM: Meeting Room (West)
DESCRIPTION:The Crescent Circus, husband-and-wife duo Nathan Kepner and Mo
 rgan Tsu-Raun, fuse their expertise in magic and circus arts to deliver a 
 one-of-kind experience on stage. Library meeting rooms have limited space
 , so come early for your best chance to get a seat. 
URL:https://www.myscpl.org/event/crescent-circus-21043
END:VEVENT
END:VCALENDAR
