BEGIN:VCALENDAR
VERSION:2.0
PRODID:-//Library Market//iCal Export//EN
BEGIN:VEVENT
SUMMARY:Ballet Images Presents Storytime Ballet
UID:21085
DTSTAMP:20260421T160500Z
DTSTART:20260627T153000Z
DTEND:20260627T163000Z
LOCATION:East Regional Library, 160 West Campus Dr, Destrehan, LA 70047, U
 nited States
ROOM: Large Meeting Room
DESCRIPTION:Join us for a magical storytime ballet experience where moveme
 nt and imagination come to life! Watch local dancers perform beloved class
 ical ballet excerpts. Listen to a popular children’s story brought to l
 ife through ballet. Perfect for both young dancers and dreamers of all ag
 es—come twirl, leap, and create lasting summer memories! Library meetin
 g rooms have limited space, so come early for your best chance to get a se
 at. 
URL:https://www.myscpl.org/event/ballet-images-presents-storytime-ballet-2
 1085
END:VEVENT
END:VCALENDAR
