BEGIN:VCALENDAR
VERSION:2.0
PRODID:-//Library Market//iCal Export//EN
BEGIN:VEVENT
SUMMARY:Bright Star Theatre
UID:21089
DTSTAMP:20260424T152600Z
DTSTART:20260701T190000Z
DTEND:20260701T200000Z
LOCATION:307 Audubon St, Paradis, LA 70080, United States
ROOM: Meeting Room
DESCRIPTION:Bright Star Theatre is bringing two classic tales to life this
  summer in a fun and interactive show. Dance at the ball with Cinderella 
 and challenge the giant with Jack and the Beanstalk as these stories come 
 to life in front of our eyes! Library meeting rooms have limited space, s
 o come early for your best chance to get a seat. 
URL:https://www.myscpl.org/event/bright-star-theatre-21089
END:VEVENT
END:VCALENDAR
