BEGIN:VCALENDAR
VERSION:2.0
PRODID:-//Library Market//iCal Export//EN
BEGIN:VEVENT
SUMMARY:Bright Star Theatre
UID:21091
DTSTAMP:20260421T172300Z
DTSTART:20260702T190000Z
DTEND:20260702T200000Z
LOCATION:590 Apple St, Norco, LA 70079, United States
ROOM: Meeting Room
DESCRIPTION:Once Upon A Time: Cinderella &amp; Jack and the BeanstalkDance
  at the ball with Cinderella and challenge the giant with Jack and the Bea
 nstalk as these stories come to life in front of your very eyes! Fun and i
 nteractive, this show is great for younger audiences or anyone who is youn
 g at heart.Library meeting rooms have limited space, so come early for you
 r best chance to get a seat. 
URL:https://www.myscpl.org/event/bright-star-theatre-21091
END:VEVENT
END:VCALENDAR
