BEGIN:VCALENDAR
VERSION:2.0
PRODID:-//Library Market//iCal Export//EN
BEGIN:VEVENT
SUMMARY:Bright Star Theatre
UID:21093
DTSTAMP:20260421T173200Z
DTSTART:20260702T230000Z
DTEND:20260703T000000Z
LOCATION:East Regional Library, 160 West Campus Dr, Destrehan, LA 70047, U
 nited States
ROOM: Large Meeting Room
DESCRIPTION:Once Upon A Time: Cinderella &amp; Jack and the BeanstalkDance
  at the ball with Cinderella and challenge the giant with Jack and the Bea
 nstalk as these stories come to life in front of your very eyes! Fun and i
 nteractive, this show is great for younger audiences or anyone who is youn
 g at heart.Library meeting rooms have limited space, so come early for you
 r best chance to get a seat. 
URL:https://www.myscpl.org/event/bright-star-theatre-21093
END:VEVENT
END:VCALENDAR
