BEGIN:VCALENDAR
VERSION:2.0
PRODID:-//Library Market//iCal Export//EN
BEGIN:VEVENT
SUMMARY:Summer Reading Kickoff Party
UID:21099
DTSTAMP:20260423T231800Z
DTSTART:20260601T190000Z
DTEND:20260601T210000Z
LOCATION:East Regional Library, 160 West Campus Dr, Destrehan, LA 70047, U
 nited States
ROOM: Throughout the Library
DESCRIPTION:Join us to kick off your summer at the East Regional Library! 
 You&#039;ll be able to enjoy crafts, play games, and win prizes! Pick up 
 your summer reading sign up prizes after you register for the summer readi
 ng program! You can save time and register on Beanstack before you come t
 o the library, or we can help sign you up while you&#039;re here. 
URL:https://www.myscpl.org/event/summer-reading-kickoff-party-21099
END:VEVENT
END:VCALENDAR
