BEGIN:VCALENDAR
VERSION:2.0
PRODID:-//Library Market//iCal Export//EN
BEGIN:VEVENT
SUMMARY:Summer Reading Kickoff Party
UID:21106
DTSTAMP:20260423T231800Z
DTSTART:20260601T210000Z
DTEND:20260601T230000Z
LOCATION:307 Audubon St, Paradis, LA 70080, United States
ROOM: Meeting Room
DESCRIPTION:Join us for the Paradis Summer Reading Kickoff event. Games, p
 rizes and snacks included. Pick up your summer reading sign up prizes afte
 r you register for the summer reading program. You can save time and regis
 ter on Beanstack before you come to the library, or we can help sign you 
 up while you&#039;re here.  
URL:https://www.myscpl.org/event/summer-reading-kickoff-party-21106
END:VEVENT
END:VCALENDAR
