BEGIN:VCALENDAR
VERSION:2.0
PRODID:-//Library Market//iCal Export//EN
BEGIN:VEVENT
SUMMARY:Summer Reading Kickoff Party
UID:21250
DTSTAMP:20260421T172300Z
DTSTART:20260601T180000Z
DTEND:20260601T200000Z
LOCATION:105 Lakewood Dr, Luling, LA 70070, United States
ROOM: Meeting Room (West)
DESCRIPTION:Join us to kick off your summer at the West Regional Library! 
 You&#039;ll be able to enjoy crafts, play games, and pick up your summer r
 eading sign up prizes after you register for the summer reading program! Y
 ou can save time and register on Beanstack before you come to the library
 , or we can help sign you up while you&#039;re here. 
URL:https://www.myscpl.org/event/srp-kickoff-21250
END:VEVENT
END:VCALENDAR
