BEGIN:VCALENDAR
VERSION:2.0
PRODID:-//Library Market//iCal Export//EN
BEGIN:VEVENT
SUMMARY:Rocks &amp; Pots
UID:21274
DTSTAMP:20260421T130900Z
DTSTART:20260625T190000Z
DTEND:20260625T200000Z
LOCATION:105 Lakewood Dr, Luling, LA 70070, United States
ROOM: Meeting Room (West)
DESCRIPTION:Decorate rocks and plant pots to add to your garden!
URL:https://www.myscpl.org/event/rock-painting-21274
END:VEVENT
END:VCALENDAR
