BEGIN:VCALENDAR
VERSION:2.0
PRODID:-//Library Market//iCal Export//EN
BEGIN:VEVENT
SUMMARY:Seed Art
UID:21275
DTSTAMP:20260421T172200Z
DTSTART:20260611T180000Z
DTEND:20260611T190000Z
LOCATION:105 Lakewood Dr, Luling, LA 70070, United States
ROOM: Meeting Room (West)
DESCRIPTION:Use seeds to create a masterpiece!
URL:https://www.myscpl.org/event/fabric-covered-flower-pots-21275
END:VEVENT
END:VCALENDAR
