BEGIN:VCALENDAR
VERSION:2.0
PRODID:-//Library Market//iCal Export//EN
BEGIN:VEVENT
SUMMARY:Red, White, and Baby Blue Party
UID:21276
DTSTAMP:20260421T172200Z
DTSTART:20260630T190000Z
DTEND:20260630T210000Z
LOCATION:105 Lakewood Dr, Luling, LA 70070, United States
ROOM: Meeting Room (West)
DESCRIPTION:Celebrate America 250 with our Red, White, and Baby Blue Party
 ! Bring your littles in their patriotic best to dance, play, and have plen
 ty of fun while we give it up for our country&#039;s 250th birthday!
URL:https://www.myscpl.org/event/250th-american-party-21276
END:VEVENT
END:VCALENDAR
