BEGIN:VCALENDAR
VERSION:2.0
PRODID:-//Library Market//iCal Export//EN
BEGIN:VEVENT
SUMMARY:Plant Dream Homes
UID:21304
DTSTAMP:20260421T184900Z
DTSTART:20260629T200000Z
DTEND:20260629T213000Z
LOCATION:590 Apple St, Norco, LA 70079, United States
ROOM: Meeting Room
DESCRIPTION:Paint your plant’s dream home! Decorate a flower pot that yo
 ur plants will love.
URL:https://www.myscpl.org/event/teen-program-placeholder-video-games-not-
 truck-21304
END:VEVENT
END:VCALENDAR
