BEGIN:VCALENDAR
VERSION:2.0
PRODID:-//Library Market//iCal Export//EN
BEGIN:VEVENT
SUMMARY:Cha Cha Chia Pet
UID:21305
DTSTAMP:20260421T172200Z
DTSTART:20260706T200000Z
DTEND:20260706T210000Z
LOCATION:590 Apple St, Norco, LA 70079, United States
ROOM: Meeting Room
DESCRIPTION:Design your own Chia Pet with air dry clay. Let your imaginati
 on and creativity go wild and grow chia seeds on a design of your own.
URL:https://www.myscpl.org/event/teen-program-placeholder-craft-21305
END:VEVENT
END:VCALENDAR
