BEGIN:VCALENDAR
VERSION:2.0
PRODID:-//Library Market//iCal Export//EN
BEGIN:VEVENT
SUMMARY:LEGO Club
UID:21308
DTSTAMP:20260421T173200Z
DTSTART:20260604T230000Z
DTEND:20260605T000000Z
LOCATION:105 Lakewood Dr, Luling, LA 70070, United States
ROOM: Meeting Room (West)
DESCRIPTION:
URL:https://www.myscpl.org/event/tba-lego-club-21308
END:VEVENT
END:VCALENDAR
