BEGIN:VCALENDAR
VERSION:2.0
PRODID:-//Library Market//iCal Export//EN
BEGIN:VEVENT
SUMMARY:Grow Your Own Garden
UID:21309
DTSTAMP:20260421T144300Z
DTSTART:20260616T190000Z
DTEND:20260616T200000Z
LOCATION:105 Lakewood Dr, Luling, LA 70070, United States
ROOM: Meeting Room (West)
DESCRIPTION:Create your own decorative garden stakes and wildflower seed b
 ombs!
URL:https://www.myscpl.org/event/tbd-vr-verse-21309
END:VEVENT
END:VCALENDAR
