BEGIN:VCALENDAR
VERSION:2.0
PRODID:-//Library Market//iCal Export//EN
BEGIN:VEVENT
SUMMARY:Flowers, Flowers, Flowers
UID:21310
DTSTAMP:20260422T020200Z
DTSTART:20260716T200000Z
DTEND:20260716T213000Z
LOCATION:105 Lakewood Dr, Luling, LA 70070, United States
ROOM: Meeting Room (West)
DESCRIPTION:Make your space colorful and bright with these different flowe
 r crafts!
URL:https://www.myscpl.org/event/flowers-flowers-and-more-flowers-21310
END:VEVENT
END:VCALENDAR
