BEGIN:VCALENDAR
VERSION:2.0
PRODID:-//Library Market//iCal Export//EN
BEGIN:VEVENT
SUMMARY:MaMa Saba
UID:21399
DTSTAMP:20260421T160500Z
DTSTART:20260622T230000Z
DTEND:20260623T000000Z
LOCATION:East Regional Library, 160 West Campus Dr, Destrehan, LA 70047, U
 nited States
ROOM: Large Meeting Room
DESCRIPTION:“MaMa SaBa,” meaning “mother of seven” in Swahili, dyn
 amically energizes her audiences, weaving folktales, tall tales, funny tal
 es, and just plain “ole” tales for kids from five to ninety-five. Get
  ready for a grand journey through character-filled tales as she leads you
  From Here to Yonder, folktales from around the world.Library meeting room
 s have limited space, so come early for your best chance to get a seat. 
URL:https://www.myscpl.org/event/mama-saba-here-yonder-21399
END:VEVENT
END:VCALENDAR
