BEGIN:VCALENDAR
VERSION:2.0
PRODID:-//Library Market//iCal Export//EN
BEGIN:VEVENT
SUMMARY:MaMa SaBa
UID:21402
DTSTAMP:20260424T134900Z
DTSTART:20260623T190000Z
DTEND:20260623T200000Z
LOCATION:307 Audubon St, Paradis, LA 70080, United States
ROOM: Meeting Room
DESCRIPTION:Take a journey through tales from around the world with storyt
 eller MaMa SaBa! We will travel from Here to Yonder as she weaves folktal
 es, tall tales, and funny tales with singing and dancing.  Library meetin
 g rooms have limited space, so come early for your best chance to get a se
 at. 
URL:https://www.myscpl.org/event/mama-saba-here-yonder-21402
END:VEVENT
END:VCALENDAR
