BEGIN:VCALENDAR
VERSION:2.0
PRODID:-//Library Market//iCal Export//EN
BEGIN:VEVENT
SUMMARY:Professor Universe
UID:21405
DTSTAMP:20260421T172200Z
DTSTART:20260709T190000Z
DTEND:20260709T200000Z
LOCATION:East Regional Library, 160 West Campus Dr, Destrehan, LA 70047, U
 nited States
ROOM: Large Meeting Room
DESCRIPTION:Join Professor Universe in his greatest adventure yet as he em
 barks on a mission to save the entire planet with a little help from the c
 arbon cycle. From meeting a high-altitude mountain, to plunging deep into 
 the mantle of the earth, kids will learn how carbon moves between plants a
 nd animals, the ground, and the air, keeping our planet safe for hundreds 
 of millions of years. But navigating volcanic eruptions, prehistoric rival
 ries, and rebellious magma won’t be easy, and he’ll need your help! L
 ibrary meeting rooms have limited space, so come early for your best chanc
 e to get a seat. 
URL:https://www.myscpl.org/event/professor-universe-21405
END:VEVENT
END:VCALENDAR
