BEGIN:VCALENDAR
VERSION:2.0
PRODID:-//Library Market//iCal Export//EN
BEGIN:VEVENT
SUMMARY:Professor Universe
UID:21408
DTSTAMP:20260424T165100Z
DTSTART:20260709T153000Z
DTEND:20260709T163000Z
LOCATION:307 Audubon St, Paradis, LA 70080, United States
ROOM: Meeting Room
DESCRIPTION:Join Professor Universe on his greatest adventure yet! Â Navig
 ating volcanic eruptions, prehistoric rivalries, and rebellious magma wonâ
 €™t be easy. Professor Universe will need our help as he embarks on a miss
 ion to save the entire planet with a little help from the carbon cycle.Â F
 rom meeting a high-altitude mountain, to plunging deep into the mantle of 
 the earth, kids will learn how carbon moves between plants and animals, th
 e ground, and the air, keeping our planet safe for hundreds of millions of
  years.Â Library meeting rooms have limited space, so come early for your 
 best chance to get a seat.Â 
URL:https://www.myscpl.org/event/professor-universe-21408
END:VEVENT
END:VCALENDAR
