BEGIN:VCALENDAR
VERSION:2.0
PRODID:-//Library Market//iCal Export//EN
BEGIN:VEVENT
SUMMARY:LEGO Club
UID:21410
DTSTAMP:20260421T172200Z
DTSTART:20260702T230000Z
DTEND:20260703T000000Z
LOCATION:105 Lakewood Dr, Luling, LA 70070, United States
ROOM: Meeting Room (West)
DESCRIPTION:
URL:https://www.myscpl.org/event/lego-club-21410
END:VEVENT
END:VCALENDAR
