BEGIN:VCALENDAR
VERSION:2.0
PRODID:-//Library Market//iCal Export//EN
BEGIN:VEVENT
SUMMARY:Jackbox Jamboree
UID:21411
DTSTAMP:20260421T172300Z
DTSTART:20260603T223000Z
DTEND:20260604T003000Z
LOCATION:105 Lakewood Dr, Luling, LA 70070, United States
ROOM: Teen Room
DESCRIPTION:Kick off the summer with a wild, laugh-out-loud gaming session
 ! No experience needed—just bring your sense of humor and your competiti
 ve spirit.Plenty of laughs guaranteed!
URL:https://www.myscpl.org/event/nerd-night-jackbox-jamboree-21411
END:VEVENT
END:VCALENDAR
