BEGIN:VCALENDAR
VERSION:2.0
PRODID:-//Library Market//iCal Export//EN
BEGIN:VEVENT
SUMMARY:Warp and Weft 101
UID:21412
DTSTAMP:20260421T172300Z
DTSTART:20260707T190000Z
DTEND:20260707T200000Z
LOCATION:105 Lakewood Dr, Luling, LA 70070, United States
ROOM: Meeting Room (West)
DESCRIPTION:Try out the ancient art of weaving and create your own textile
  art using nothing more than cardboard and yarn! This program aims to teac
 h the basics of constructing and using a cardboard loom. Can You Be-Weave 
 It?! 
URL:https://www.myscpl.org/event/looms-21412
END:VEVENT
END:VCALENDAR
