BEGIN:VCALENDAR
VERSION:2.0
PRODID:-//Library Market//iCal Export//EN
BEGIN:VEVENT
SUMMARY:Imprint Amulets
UID:21413
DTSTAMP:20260421T172200Z
DTSTART:20260610T223000Z
DTEND:20260611T003000Z
LOCATION:105 Lakewood Dr, Luling, LA 70070, United States
ROOM: Teen Room
DESCRIPTION:Press leaves, flowers, and other textures into clay to make on
 e-of-a-kind pieces of art you can wear, gift, or make into a keychain. 
URL:https://www.myscpl.org/event/nerd-night-imprint-amulets-21413
END:VEVENT
END:VCALENDAR
