BEGIN:VCALENDAR
VERSION:2.0
PRODID:-//Library Market//iCal Export//EN
BEGIN:VEVENT
SUMMARY:Teen Movie Night: Barbie Bingo
UID:21414
DTSTAMP:20260421T130900Z
DTSTART:20260617T223000Z
DTEND:20260618T003000Z
LOCATION:105 Lakewood Dr, Luling, LA 70070, United States
ROOM: Teen Room
DESCRIPTION:As you watch Barbie (PG-13, 1h 54m), take note every time Barb
 ie serves a look or the Kens look confused, mark your card, and shout out 
 “BINGO!” for your prize. 
URL:https://www.myscpl.org/event/nerd-night-movie-night-21414
END:VEVENT
END:VCALENDAR
