BEGIN:VCALENDAR
VERSION:2.0
PRODID:-//Library Market//iCal Export//EN
BEGIN:VEVENT
SUMMARY:Pea Pod, Seed Pod
UID:21415
DTSTAMP:20260421T160500Z
DTSTART:20260624T223000Z
DTEND:20260625T003000Z
LOCATION:105 Lakewood Dr, Luling, LA 70070, United States
ROOM: Teen Room
DESCRIPTION:Make your own seed pods using recycled paper pulp and a mix of
  wildflower seeds. Throw the pods wherever a splash of color is needed and
  help out our local pollinators!
URL:https://www.myscpl.org/event/nerd-night-pea-pod-seed-pod-21415
END:VEVENT
END:VCALENDAR
