BEGIN:VCALENDAR
VERSION:2.0
PRODID:-//Library Market//iCal Export//EN
BEGIN:VEVENT
SUMMARY:Mini Ferns
UID:21417
DTSTAMP:20260421T172200Z
DTSTART:20260701T223000Z
DTEND:20260702T003000Z
LOCATION:105 Lakewood Dr, Luling, LA 70070, United States
ROOM: Teen Room
DESCRIPTION:Transform recycled plastic bottles and bottle caps into charmi
 ng mini ferns. Cut, shape, and assemble your materials into unique, plant-
 inspired creations. No watering required! 
URL:https://www.myscpl.org/event/nerd-night-mini-ferns-21417
END:VEVENT
END:VCALENDAR
