BEGIN:VCALENDAR
VERSION:2.0
PRODID:-//Library Market//iCal Export//EN
BEGIN:VEVENT
SUMMARY:D&amp;D - Goblin Trouble
UID:21420
DTSTAMP:20260421T184900Z
DTSTART:20260715T223000Z
DTEND:20260716T003000Z
LOCATION:105 Lakewood Dr, Luling, LA 70070, United States
ROOM: Teen Room
DESCRIPTION:Join us for an introduction to Dungeons &amp; Dragons! Goblin 
 Trouble is a beginner&#039;s game, so we&#039;ll be working through the ru
 les together. We welcome you to hop in at any session!7/8: Character Creat
 ion7/15: Intro to Gameplay7/22: Adventure!
URL:https://www.myscpl.org/event/nerd-night-dd-goblin-trouble-21420
END:VEVENT
END:VCALENDAR
