BEGIN:VCALENDAR
VERSION:2.0
PRODID:-//Library Market//iCal Export//EN
BEGIN:VEVENT
SUMMARY:Handmade Adventure Journals
UID:21422
DTSTAMP:20260421T181100Z
DTSTART:20260729T223000Z
DTEND:20260730T003000Z
LOCATION:105 Lakewood Dr, Luling, LA 70070, United States
ROOM: Teen Room
DESCRIPTION:Personalize your own adventure journal with unique covers, dec
 orations, and pages. This little journal is perfect for writing, sketching
 , or capturing your thoughts on the go.  
URL:https://www.myscpl.org/event/nerd-night-handmade-adventure-journals-21
 422
END:VEVENT
END:VCALENDAR
