BEGIN:VCALENDAR
VERSION:2.0
PRODID:-//Library Market//iCal Export//EN
BEGIN:VEVENT
SUMMARY:One-Shot Weekend: Root
UID:21423
DTSTAMP:20260421T235400Z
DTSTART:20260718T190000Z
DTEND:20260718T210000Z
LOCATION:105 Lakewood Dr, Luling, LA 70070, United States
ROOM: Teen Room
DESCRIPTION:Join us for this one-shot TTRPG. Pre-made characters and dice 
 will be provided for the game. The Marquise has gotten a hold of a forest
  relic that is of interest to a third party. The mission from your benefac
 tor includes retrieving this relic from the secure vault inside a large br
 anch of The Better Burrow Bank. Can you pull off the heist?
URL:https://www.myscpl.org/event/tbd-teen-candle-21423
END:VEVENT
END:VCALENDAR
