BEGIN:VCALENDAR
VERSION:2.0
PRODID:-//Library Market//iCal Export//EN
BEGIN:VEVENT
SUMMARY:3D Modeling with Tinkercad
UID:21442
DTSTAMP:20260424T134900Z
DTSTART:20260625T230000Z
DTEND:20260626T003000Z
LOCATION:East Regional Library, 160 West Campus Dr, Destrehan, LA 70047, U
 nited States
ROOM: Computer Lab
DESCRIPTION:Learn how to create and edit 3D models using Tinkercad! Makers
 pace staff will guide participants through a series of beginner tutorials 
 in Tinkercad, then demonstrate how to print models using the Makerspace&#0
 39;s 3D printers.This is a beginner-level program, but open to all!
URL:https://www.myscpl.org/event/3d-modeling-tinkercad-21442
END:VEVENT
END:VCALENDAR
