BEGIN:VCALENDAR
VERSION:2.0
PRODID:-//Library Market//iCal Export//EN
BEGIN:VEVENT
SUMMARY:Animal Tales
UID:21466
DTSTAMP:20260424T192300Z
DTSTART:20260721T190000Z
DTEND:20260721T200000Z
LOCATION:307 Audubon St, Paradis, LA 70080, United States
ROOM: Meeting Room
DESCRIPTION:Animal Tales will educate, entertain, and inspire us with a un
 ique animal experience. Learn about exotic birds, reptiles, amphibians, m
 ammals, and more. There will also be the opportunity for a special hands-
 on animal experience at the end. Library meeting rooms have limited space
 , so come early for your best chance to get a seat. 
URL:https://www.myscpl.org/event/animal-tales-21466
END:VEVENT
END:VCALENDAR
