BEGIN:VCALENDAR
VERSION:2.0
PRODID:-//Library Market//iCal Export//EN
BEGIN:VEVENT
SUMMARY:Animal Tales
UID:21470
DTSTAMP:20260421T184900Z
DTSTART:20260722T230000Z
DTEND:20260723T000000Z
LOCATION:East Regional Library, 160 West Campus Dr, Destrehan, LA 70047, U
 nited States
ROOM: Large Meeting Room
DESCRIPTION:Animal Tales will provide a program with 6 exotic animals. You
  will meet a mixture of mammals, birds, reptiles, amphibians, and others. 
 Kids will be involved in the program through verbal participation and educ
 ational skits. At the end of the program, everyone will get to touch an an
 imal on the way out.Library meeting rooms have limited space, so come earl
 y for your best chance to get a seat. 
URL:https://www.myscpl.org/event/animal-tales-21470
END:VEVENT
END:VCALENDAR
