BEGIN:VCALENDAR
VERSION:2.0
PRODID:-//Library Market//iCal Export//EN
BEGIN:VEVENT
SUMMARY:Truck Time
UID:21484
DTSTAMP:20260421T184900Z
DTSTART:20260603T153000Z
DTEND:20260603T163000Z
LOCATION:East Regional Library, 160 West Campus Dr, Destrehan, LA 70047, U
 nited States
ROOM: Large Meeting Room
DESCRIPTION:Let your toddlers zoom and vroom across our custom tracks as t
 hey play with cars!
URL:https://www.myscpl.org/event/copy-childrens-place-holder-truck-time-21
 484
END:VEVENT
END:VCALENDAR
