BEGIN:VCALENDAR
VERSION:2.0
PRODID:-//Library Market//iCal Export//EN
BEGIN:VEVENT
SUMMARY:Out of the Toy Box
UID:21485
DTSTAMP:20260421T172200Z
DTSTART:20260701T153000Z
DTEND:20260701T163000Z
LOCATION:East Regional Library, 160 West Campus Dr, Destrehan, LA 70047, U
 nited States
ROOM: Large Meeting Room
DESCRIPTION:Socialize and play with our themed toy boxes!
URL:https://www.myscpl.org/event/childrens-place-holder-out-toy-box-21485
END:VEVENT
END:VCALENDAR
