BEGIN:VCALENDAR
VERSION:2.0
PRODID:-//Library Market//iCal Export//EN
BEGIN:VEVENT
SUMMARY:Crafting Critters
UID:21487
DTSTAMP:20260421T191200Z
DTSTART:20260723T230000Z
DTEND:20260724T000000Z
LOCATION:East Regional Library, 160 West Campus Dr, Destrehan, LA 70047, U
 nited States
ROOM: Large Meeting Room
DESCRIPTION:Bring the outside in! Mount a plastic bug specimen on a wooden
  plaque. 
URL:https://www.myscpl.org/event/childrens-place-holder-crafting-critters-
 21487
END:VEVENT
END:VCALENDAR
