BEGIN:VCALENDAR
VERSION:2.0
PRODID:-//Library Market//iCal Export//EN
BEGIN:VEVENT
SUMMARY:Rocks &amp; Pots
UID:21488
DTSTAMP:20260421T172200Z
DTSTART:20260709T230000Z
DTEND:20260710T000000Z
LOCATION:East Regional Library, 160 West Campus Dr, Destrehan, LA 70047, U
 nited States
ROOM: Large Meeting Room
DESCRIPTION:Decorate garden rocks and pots to add a personal touch to your
  outdoor space. 
URL:https://www.myscpl.org/event/childrens-place-holder-rocks-and-pots-214
 88
END:VEVENT
END:VCALENDAR
