BEGIN:VCALENDAR
VERSION:2.0
PRODID:-//Library Market//iCal Export//EN
BEGIN:VEVENT
SUMMARY:Painted Garden
UID:21489
DTSTAMP:20260422T020200Z
DTSTART:20260716T230000Z
DTEND:20260717T000000Z
LOCATION:East Regional Library, 160 West Campus Dr, Destrehan, LA 70047, U
 nited States
ROOM: Large Meeting Room
DESCRIPTION:Channel your inner Monet and paint a beautiful garden! Paint a
  garden with everyday materials.
URL:https://www.myscpl.org/event/childrens-place-holder-painted-garden-214
 89
END:VEVENT
END:VCALENDAR
